BEGIN:VCALENDAR
VERSION:2.0
PRODID:-//City of Acworth, GA - ECPv6.15.17.1//NONSGML v1.0//EN
CALSCALE:GREGORIAN
METHOD:PUBLISH
X-WR-CALNAME:City of Acworth, GA
X-ORIGINAL-URL:https://acworth-ga.gov
X-WR-CALDESC:Events for City of Acworth, GA
REFRESH-INTERVAL;VALUE=DURATION:PT1H
X-Robots-Tag:noindex
X-PUBLISHED-TTL:PT1H
BEGIN:VTIMEZONE
TZID:America/New_York
BEGIN:DAYLIGHT
TZOFFSETFROM:-0500
TZOFFSETTO:-0400
TZNAME:EDT
DTSTART:20230312T070000
END:DAYLIGHT
BEGIN:STANDARD
TZOFFSETFROM:-0400
TZOFFSETTO:-0500
TZNAME:EST
DTSTART:20231105T060000
END:STANDARD
BEGIN:DAYLIGHT
TZOFFSETFROM:-0500
TZOFFSETTO:-0400
TZNAME:EDT
DTSTART:20240310T070000
END:DAYLIGHT
BEGIN:STANDARD
TZOFFSETFROM:-0400
TZOFFSETTO:-0500
TZNAME:EST
DTSTART:20241103T060000
END:STANDARD
BEGIN:DAYLIGHT
TZOFFSETFROM:-0500
TZOFFSETTO:-0400
TZNAME:EDT
DTSTART:20250309T070000
END:DAYLIGHT
BEGIN:STANDARD
TZOFFSETFROM:-0400
TZOFFSETTO:-0500
TZNAME:EST
DTSTART:20251102T060000
END:STANDARD
END:VTIMEZONE
BEGIN:VEVENT
DTSTART;TZID=America/New_York:20241102T130000
DTEND;TZID=America/New_York:20241102T170000
DTSTAMP:20260424T065655
CREATED:20240806T125915Z
LAST-MODIFIED:20240806T130708Z
UID:10004672-1730552400-1730566800@acworth-ga.gov
SUMMARY:Acworth Beer & Wine Fest
DESCRIPTION:The annual Acworth Beer & Wine Festival will take place on Saturday\, November 2\, 2024 at Logan Farm Park. Come out and join us and enjoy over 100 craft beers\, wine\, live music\, great food\, and TONS of fun! This event is for people 21 and older\, no kids or pets will be allowed. \nTickets include event entry\, souvenir cup\, unlimited beer and wine samples\, and entertainment! Designated Driver tickets will be available at the gate. \nFor all additional details\, to view the beer list\, or get directions\, please visit: www.acworthbeerwinefest.com.
URL:https://acworth-ga.gov/event/acworth-beer-wine-fest-2/
LOCATION:Logan Farm Park\, 4405 Cherokee Street\, Acworth\, GA\, 30101
CATEGORIES:parks-recreation-event
ATTACH;FMTTYPE=image/png:https://acworth-ga.gov/wp-content/uploads/2023/08/websiteBeerWine-5.png
END:VEVENT
BEGIN:VEVENT
DTSTART;TZID=America/New_York:20241104T120000
DTEND;TZID=America/New_York:20241104T120000
DTSTAMP:20260424T065655
CREATED:20230815T223054Z
LAST-MODIFIED:20231101T143632Z
UID:10003764-1730721600-1730721600@acworth-ga.gov
SUMMARY:Acworth Lake Authority
DESCRIPTION:The Lake Authority is a five-member board where the elected Mayor serves as the Chairman.  The remaining four members are appointed by the Mayor and Board to serve.  They are a group of citizens that assist the City by providing citizen input and engagement into the operation\, management\, and the development of master plans for Federally leased properties around Lake Acworth. The Lake Authority meets at the Acworth Community Center (4361 Cherokee Street) on the first Monday of the month at noon.
URL:https://acworth-ga.gov/event/acworth-lake-authority/2024-11-04/
LOCATION:Acworth Community Center\, 4361 Cherokee Street\, Acworth\, GA\, 30101
CATEGORIES:city-council-meeting
ATTACH;FMTTYPE=image/png:https://acworth-ga.gov/wp-content/uploads/2023/08/WEBSITEboardMeeting.png
END:VEVENT
BEGIN:VEVENT
DTSTART;TZID=America/New_York:20241104T183000
DTEND;TZID=America/New_York:20241104T183000
DTSTAMP:20260424T065655
CREATED:20240415T230240Z
LAST-MODIFIED:20240415T230241Z
UID:10004652-1730745000-1730745000@acworth-ga.gov
SUMMARY:Work Session - Mayor & Board of Aldermen
DESCRIPTION:Mayor & Board of Aldermen work sessions occur Mondays of regular council meeting weeks from 6:30 p.m. at Acworth City Hall (4415 Center Street).
URL:https://acworth-ga.gov/event/work-session-mayor-board-of-aldermen-2-2-2-2-2/
LOCATION:Acworth City Hall\, 4415 Center Street\, Acworth\, GA\, 30101\, United States
CATEGORIES:city-council-meeting
ATTACH;FMTTYPE=image/jpeg:https://acworth-ga.gov/wp-content/uploads/2023/07/cropped-Acworth_Logo_Full-Color-Standard.jpg
END:VEVENT
BEGIN:VEVENT
DTSTART;TZID=America/New_York:20241107T190000
DTEND;TZID=America/New_York:20241107T190000
DTSTAMP:20260424T065655
CREATED:20231030T192025Z
LAST-MODIFIED:20251020T160822Z
UID:10003642-1731006000-1731006000@acworth-ga.gov
SUMMARY:Regular Meeting - Mayor & Board of Aldermen
DESCRIPTION:Acworth City Council regular meetings occur on the first and third Thursday of each month at 7:00 p.m. The meetings take place in council chambers at Acworth City Hall (4415 Center Street).
URL:https://acworth-ga.gov/event/regular-meeting-mayor-board-of-aldermen-first-thursday/2024-11-07/
LOCATION:Acworth City Hall\, 4415 Center Street\, Acworth\, GA\, 30101\, United States
CATEGORIES:city-council-meeting
ATTACH;FMTTYPE=image/png:https://acworth-ga.gov/wp-content/uploads/2023/08/WEBSITEboardMeeting.png
END:VEVENT
BEGIN:VEVENT
DTSTART;TZID=America/New_York:20241109T083000
DTEND;TZID=America/New_York:20241109T123000
DTSTAMP:20260424T065655
CREATED:20241028T140856Z
LAST-MODIFIED:20241028T141021Z
UID:10004448-1731141000-1731155400@acworth-ga.gov
SUMMARY:Acworth City Clean-Up Challenge
DESCRIPTION:Join forces with the Acworth Public Safety Cadets and Acworth Public Works for the City Clean-Up Challenge! Let’s come together as a community to beautify our city and make a positive impact on our environment. \n\nSign up here to participate! \n\nThis year’s Acworth City Clean-Up Dates are: \n\n1st Quarter – March 16th\n2nd Quarter – June 8th\n3rd Quarter – will join the Great Allatoona Clean Up (Date TBD)\n4th Quarter – November 9th\n\nQuestions? Contact Cpl. Mistretta at emistretta@acworth-ga.gov.
URL:https://acworth-ga.gov/event/acworth-city-clean-up-challenge-2/
LOCATION:Acworth Police Department\, 4400 Acworth Industrial Dr\, Acworth\, GA\, 30101\, United States
CATEGORIES:city-event,parks-recreation-event,police-event
ATTACH;FMTTYPE=image/png:https://acworth-ga.gov/wp-content/uploads/2024/01/WEBSITECleanUpChallenge.png
END:VEVENT
BEGIN:VEVENT
DTSTART;TZID=America/New_York:20241114T163000
DTEND;TZID=America/New_York:20241114T163000
DTSTAMP:20260424T065655
CREATED:20231211T131540Z
LAST-MODIFIED:20231211T131711Z
UID:10003888-1731601800-1731601800@acworth-ga.gov
SUMMARY:Acworth Tourism Bureau Authority Meeting
DESCRIPTION:Visit Acworth is the city’s tourism bureau authority charged with branding and marketing the city for the purpose of attracting visitors to enjoy Acworth’s two beautiful lakes and historic downtown districts. Visit Acworth meets the second Thursday of the month at 4:30 p.m. at Acworth City Hall.
URL:https://acworth-ga.gov/event/acworth-tourism-bureau-authority-meeting-2/2024-11-14/
LOCATION:Acworth City Hall\, 4415 Center Street\, Acworth\, GA\, 30101\, United States
CATEGORIES:city-council-meeting
ATTACH;FMTTYPE=image/png:https://acworth-ga.gov/wp-content/uploads/2023/08/WEBSITEboardMeeting.png
END:VEVENT
BEGIN:VEVENT
DTSTART;TZID=America/New_York:20241118T163000
DTEND;TZID=America/New_York:20241118T163000
DTSTAMP:20260424T065655
CREATED:20241118T204722Z
LAST-MODIFIED:20241118T204723Z
UID:10004656-1731947400-1731947400@acworth-ga.gov
SUMMARY:Work Session - Mayor & Board of Aldermen
DESCRIPTION:Mayor & Board of Aldermen work sessions occur Mondays of regular council meeting weeks from 6:30 p.m. at Acworth City Hall (4415 Center Street).
URL:https://acworth-ga.gov/event/work-session-mayor-board-of-aldermen-2-2-2-2-2-2/
LOCATION:Acworth City Hall\, 4415 Center Street\, Acworth\, GA\, 30101\, United States
CATEGORIES:city-council-meeting
ATTACH;FMTTYPE=image/jpeg:https://acworth-ga.gov/wp-content/uploads/2023/07/cropped-Acworth_Logo_Full-Color-Standard.jpg
END:VEVENT
BEGIN:VEVENT
DTSTART;TZID=America/New_York:20241119T160000
DTEND;TZID=America/New_York:20241119T160000
DTSTAMP:20260424T065655
CREATED:20230815T210735Z
LAST-MODIFIED:20231215T151053Z
UID:10004014-1732032000-1732032000@acworth-ga.gov
SUMMARY:Downtown Development Authority Meeting
DESCRIPTION:The DDA facilitates the process of Economic Development in the Downtown Development Authority District while preserving its historic downtown heritage\, and meets the third Tuesday of the month at 4:00 p.m. at Acworth City Hall.
URL:https://acworth-ga.gov/event/downtown-development-authority-meeting/2024-11-19/
LOCATION:Acworth City Hall\, 4415 Center Street\, Acworth\, GA\, 30101\, United States
CATEGORIES:city-council-meeting
ATTACH;FMTTYPE=image/png:https://acworth-ga.gov/wp-content/uploads/2023/08/WEBSITEboardMeeting.png
END:VEVENT
BEGIN:VEVENT
DTSTART;TZID=America/New_York:20241121T170000
DTEND;TZID=America/New_York:20241121T190000
DTSTAMP:20260424T065655
CREATED:20240424T134336Z
LAST-MODIFIED:20241114T142117Z
UID:10004659-1732208400-1732215600@acworth-ga.gov
SUMMARY:Downtown Development Authority: Meet the Merchants
DESCRIPTION:Save the Date! Are you a merchant or business property owner in Downtown Acworth? Join the Acworth Downtown Development Authority for an exciting evening of networking at its next Meet the Merchants Mixer on Thursday\, November 21 at Red Top Brewhouse from 5:00 p.m. – 7:00 p.m. Learn more about the community of merchants\, available properties\, and the opportunities unique to Acworth’s Downtown Districts. City staff will be onsite to answer questions\, and it’s a great opportunity to network with other merchants! Refreshments will be provided\, and a cash bar will be available. \nRefreshments will be provided\, and a cash bar will be available. For more information\, please contact Jeff Chase at jchase@acworth-ga.gov.
URL:https://acworth-ga.gov/event/downtown-development-authority-meet-the-merchants/
LOCATION:Red Top Brewhouse\, 4637 S Main Street\, Acworth\, GA\, 30101\, United States
CATEGORIES:city-event
ATTACH;FMTTYPE=image/png:https://acworth-ga.gov/wp-content/uploads/2024/04/WEBSITEmeetTheMerchants3.png
END:VEVENT
BEGIN:VEVENT
DTSTART;TZID=America/New_York:20241121T190000
DTEND;TZID=America/New_York:20241121T190000
DTSTAMP:20260424T065655
CREATED:20231030T192618Z
LAST-MODIFIED:20250520T192549Z
UID:10003572-1732215600-1732215600@acworth-ga.gov
SUMMARY:Regular Meeting - Mayor & Board of Aldermen
DESCRIPTION:Acworth City Council regular meetings occur on the first and third Thursday of each month at 7:00 p.m. The meetings take place in council chambers at Acworth City Hall (4415 Center Street).
URL:https://acworth-ga.gov/event/regular-meeting-mayor-board-of-aldermen-third-thursday/2024-11-21/
LOCATION:Acworth City Hall\, 4415 Center Street\, Acworth\, GA\, 30101\, United States
CATEGORIES:city-council-meeting
ATTACH;FMTTYPE=image/png:https://acworth-ga.gov/wp-content/uploads/2023/08/WEBSITEboardMeeting.png
END:VEVENT
BEGIN:VEVENT
DTSTART;TZID=America/New_York:20241126T190000
DTEND;TZID=America/New_York:20241126T190000
DTSTAMP:20260424T065655
CREATED:20231120T205828Z
LAST-MODIFIED:20231120T205828Z
UID:10004351-1732647600-1732647600@acworth-ga.gov
SUMMARY:Planning & Zoning Commission
DESCRIPTION:The Acworth Planning & Zoning Commission is responsible for ensuring developments are coordinated and harmonious with existing and future needs and consistent with the City’s Comprehensive Plan. The Commission meets on the fourth Tuesday of every month to review rezoning\, annexation\, and other requests at Acworth City Hall (4415 Center Street).
URL:https://acworth-ga.gov/event/planning-zoning-commission-2/2024-11-26/
LOCATION:Acworth City Hall\, 4415 Center Street\, Acworth\, GA\, 30101\, United States
CATEGORIES:city-council-meeting
ATTACH;FMTTYPE=image/png:https://acworth-ga.gov/wp-content/uploads/2023/08/WEBSITEboardMeeting.png
END:VEVENT
END:VCALENDAR