BEGIN:VCALENDAR
VERSION:2.0
PRODID:-//City of Acworth, GA - ECPv6.15.17.1//NONSGML v1.0//EN
CALSCALE:GREGORIAN
METHOD:PUBLISH
X-WR-CALNAME:City of Acworth, GA
X-ORIGINAL-URL:https://acworth-ga.gov
X-WR-CALDESC:Events for City of Acworth, GA
REFRESH-INTERVAL;VALUE=DURATION:PT1H
X-Robots-Tag:noindex
X-PUBLISHED-TTL:PT1H
BEGIN:VTIMEZONE
TZID:America/New_York
BEGIN:DAYLIGHT
TZOFFSETFROM:-0500
TZOFFSETTO:-0400
TZNAME:EDT
DTSTART:20250309T070000
END:DAYLIGHT
BEGIN:STANDARD
TZOFFSETFROM:-0400
TZOFFSETTO:-0500
TZNAME:EST
DTSTART:20251102T060000
END:STANDARD
BEGIN:DAYLIGHT
TZOFFSETFROM:-0500
TZOFFSETTO:-0400
TZNAME:EDT
DTSTART:20260308T070000
END:DAYLIGHT
BEGIN:STANDARD
TZOFFSETFROM:-0400
TZOFFSETTO:-0500
TZNAME:EST
DTSTART:20261101T060000
END:STANDARD
BEGIN:DAYLIGHT
TZOFFSETFROM:-0500
TZOFFSETTO:-0400
TZNAME:EDT
DTSTART:20270314T070000
END:DAYLIGHT
BEGIN:STANDARD
TZOFFSETFROM:-0400
TZOFFSETTO:-0500
TZNAME:EST
DTSTART:20271107T060000
END:STANDARD
END:VTIMEZONE
BEGIN:VEVENT
DTSTART;TZID=America/New_York:20260523T080000
DTEND;TZID=America/New_York:20260523T120000
DTSTAMP:20260425T074207
CREATED:20260330T153557Z
LAST-MODIFIED:20260330T154158Z
UID:10005326-1779523200-1779537600@acworth-ga.gov
SUMMARY:Acworth Farmers Market
DESCRIPTION:The 2026 Historic Downtown Acworth Farmer’s Market will take place on Friday mornings between April 10 and October 30\, and Saturday mornings between May 16 and November 14 from 8:00 a.m. to noon. The market is located at Logan Farm Park (4405 Cherokee Street) in Acworth. \nThere will be no farmers market on the following Saturdays: July 25\, October 17\, and October 24. \nMarket customers will have a wide variety of garden ripe Georgia grown vegetables\, eggs\, cheese\, bedding plants\, fresh-baked bread\, pies\, cakes\, honey\, and jams to choose from each week. This year’s market will be bigger and better than previous years and shoppers won’t believe the selection of homegrown goodies! \nThe Acworth Farmer’s Market is proudly sponsored by the Acworth Downtown Development Authority. \nIf you have questions about the market\, please contact Jeff Chase at jchase@acworth-ga.gov.
URL:https://acworth-ga.gov/event/acworth-farmers-market-4/2026-05-23/
LOCATION:Logan Farm Park\, 4405 Cherokee Street\, Acworth\, GA\, 30101
CATEGORIES:parks-recreation-event
ATTACH;FMTTYPE=image/png:https://acworth-ga.gov/wp-content/uploads/2024/01/WEBSITEfarmersMarket-1.png
END:VEVENT
BEGIN:VEVENT
DTSTART;TZID=America/New_York:20260523T090000
DTEND;TZID=America/New_York:20260523T100000
DTSTAMP:20260425T074207
CREATED:20260415T175008Z
LAST-MODIFIED:20260415T181046Z
UID:10005385-1779526800-1779530400@acworth-ga.gov
SUMMARY:Volunteer Workday
DESCRIPTION:Looking for a great volunteer opportunity that will get you outside? The Acworth Community Garden is the perfect place! Join a workday and assist with anything from planting and harvesting to weeding and watering. It’s a great way to get involved with the community for a great cause. \nFor possible weather cancelations\, check their Facebook page: Acworth Community Garden \n  \nInterested in helping with delivery? Even if you are not interested in participating in the workdays but have 30 minutes available in the mornings (any particular date\, day or days)\, please consider helping. The drop-off location is 7 minutes away from the Garden.
URL:https://acworth-ga.gov/event/volunteer-workday/2026-05-23/
LOCATION:Acworth Community Garden\, 4757 School Street\, Acworth\, 30101\, United States
CATEGORIES:parks-recreation-event
ATTACH;FMTTYPE=image/png:https://acworth-ga.gov/wp-content/uploads/2023/10/Garden-Slider.png
END:VEVENT
BEGIN:VEVENT
DTSTART;TZID=America/New_York:20260523T100000
DTEND;TZID=America/New_York:20260523T110000
DTSTAMP:20260425T074207
CREATED:20240130T132242Z
LAST-MODIFIED:20260326T205633Z
UID:10004435-1779530400-1779534000@acworth-ga.gov
SUMMARY:Memorial Day Ceremony
DESCRIPTION:The ceremony to honor those who have given their lives in service to our country will be held on Saturday\, May 23 at 10:00 a.m. in Cauble Park at Patriots Point. Veterans and current servicemen will pay tribute to brave men and women who have fought and died for our nation. Engraved pavers dedicated to those who have served in our armed forces that have been purchased since the previous Veterans Day will be presented at the event. \nFor more information on the event contact Jeff Chase at jchase@acworth-ga.gov or call 770-917-1234. \n\n\nIf you have not seen the Veterans Memorial at Patriot’s Point at Cauble Park\, make sure you take an opportunity to stop by. The service flags of the Army\, Navy\, Marine Corps\, Air Force and Coast Guard surround the American Flag. The concrete dome structure is surrounded by a paver walkway with engraved pavers. \nYou can honor a veteran by purchasing pavers. The pavers are available in 4×4 or 8×8 sizes. With the 4×4\, you get 3 lines\, each with up to 18 characters engraved on the pavers. The 8×8 comes with 4 lines\, each with up to 18 characters engraved on it.\nOrder forms can be picked up at the Acworth Parks and Recreation Department Office\, Acworth City Hall\, or downloaded by clicking here. Please contact Ashlee Jordan Fox at ajordanfox@acworth-ga.gov or call 770-917-1234 for any additional information.
URL:https://acworth-ga.gov/event/memorial-day-ceremony/
LOCATION:Cauble Park\, 4425 Beach St\, Acworth\, GA\, 30101\, United States
CATEGORIES:parks-recreation-event
ATTACH;FMTTYPE=image/png:https://acworth-ga.gov/wp-content/uploads/2024/01/WEBSITEmemorialDay.png
END:VEVENT
END:VCALENDAR