BEGIN:VCALENDAR
VERSION:2.0
PRODID:-//City of Acworth, GA - ECPv6.15.17.1//NONSGML v1.0//EN
CALSCALE:GREGORIAN
METHOD:PUBLISH
X-WR-CALNAME:City of Acworth, GA
X-ORIGINAL-URL:https://acworth-ga.gov
X-WR-CALDESC:Events for City of Acworth, GA
REFRESH-INTERVAL;VALUE=DURATION:PT1H
X-Robots-Tag:noindex
X-PUBLISHED-TTL:PT1H
BEGIN:VTIMEZONE
TZID:America/New_York
BEGIN:DAYLIGHT
TZOFFSETFROM:-0500
TZOFFSETTO:-0400
TZNAME:EDT
DTSTART:20230312T070000
END:DAYLIGHT
BEGIN:STANDARD
TZOFFSETFROM:-0400
TZOFFSETTO:-0500
TZNAME:EST
DTSTART:20231105T060000
END:STANDARD
BEGIN:DAYLIGHT
TZOFFSETFROM:-0500
TZOFFSETTO:-0400
TZNAME:EDT
DTSTART:20240310T070000
END:DAYLIGHT
BEGIN:STANDARD
TZOFFSETFROM:-0400
TZOFFSETTO:-0500
TZNAME:EST
DTSTART:20241103T060000
END:STANDARD
BEGIN:DAYLIGHT
TZOFFSETFROM:-0500
TZOFFSETTO:-0400
TZNAME:EDT
DTSTART:20250309T070000
END:DAYLIGHT
BEGIN:STANDARD
TZOFFSETFROM:-0400
TZOFFSETTO:-0500
TZNAME:EST
DTSTART:20251102T060000
END:STANDARD
END:VTIMEZONE
BEGIN:VEVENT
DTSTART;TZID=America/New_York:20241109T083000
DTEND;TZID=America/New_York:20241109T123000
DTSTAMP:20260424T083012
CREATED:20241028T140856Z
LAST-MODIFIED:20241028T141021Z
UID:10004448-1731141000-1731155400@acworth-ga.gov
SUMMARY:Acworth City Clean-Up Challenge
DESCRIPTION:Join forces with the Acworth Public Safety Cadets and Acworth Public Works for the City Clean-Up Challenge! Let’s come together as a community to beautify our city and make a positive impact on our environment. \n\nSign up here to participate! \n\nThis year’s Acworth City Clean-Up Dates are: \n\n1st Quarter – March 16th\n2nd Quarter – June 8th\n3rd Quarter – will join the Great Allatoona Clean Up (Date TBD)\n4th Quarter – November 9th\n\nQuestions? Contact Cpl. Mistretta at emistretta@acworth-ga.gov.
URL:https://acworth-ga.gov/event/acworth-city-clean-up-challenge-2/
LOCATION:Acworth Police Department\, 4400 Acworth Industrial Dr\, Acworth\, GA\, 30101\, United States
CATEGORIES:city-event,parks-recreation-event,police-event
ATTACH;FMTTYPE=image/png:https://acworth-ga.gov/wp-content/uploads/2024/01/WEBSITECleanUpChallenge.png
END:VEVENT
END:VCALENDAR