BEGIN:VCALENDAR
VERSION:2.0
PRODID:-//City of Acworth, GA - ECPv6.15.17.1//NONSGML v1.0//EN
CALSCALE:GREGORIAN
METHOD:PUBLISH
X-ORIGINAL-URL:https://acworth-ga.gov
X-WR-CALDESC:Events for City of Acworth, GA
REFRESH-INTERVAL;VALUE=DURATION:PT1H
X-Robots-Tag:noindex
X-PUBLISHED-TTL:PT1H
BEGIN:VTIMEZONE
TZID:America/New_York
BEGIN:DAYLIGHT
TZOFFSETFROM:-0500
TZOFFSETTO:-0400
TZNAME:EDT
DTSTART:20220313T070000
END:DAYLIGHT
BEGIN:STANDARD
TZOFFSETFROM:-0400
TZOFFSETTO:-0500
TZNAME:EST
DTSTART:20221106T060000
END:STANDARD
BEGIN:DAYLIGHT
TZOFFSETFROM:-0500
TZOFFSETTO:-0400
TZNAME:EDT
DTSTART:20230312T070000
END:DAYLIGHT
BEGIN:STANDARD
TZOFFSETFROM:-0400
TZOFFSETTO:-0500
TZNAME:EST
DTSTART:20231105T060000
END:STANDARD
BEGIN:DAYLIGHT
TZOFFSETFROM:-0500
TZOFFSETTO:-0400
TZNAME:EDT
DTSTART:20240310T070000
END:DAYLIGHT
BEGIN:STANDARD
TZOFFSETFROM:-0400
TZOFFSETTO:-0500
TZNAME:EST
DTSTART:20241103T060000
END:STANDARD
END:VTIMEZONE
BEGIN:VEVENT
DTSTART;TZID=America/New_York:20231212T170000
DTEND;TZID=America/New_York:20231212T180000
DTSTAMP:20260423T144420
CREATED:20231017T172813Z
LAST-MODIFIED:20231101T151306Z
UID:10003048-1702400400-1702404000@acworth-ga.gov
SUMMARY:Santa's Gonna Ringa-Ding-Ding
DESCRIPTION:Fancy a phone call from the big guy in red? We’re collecting requests to send to Santa himself so your little ones can speak to the North Pole directly! \nSanta will be calling Acworth on the following dates: \nTuesday\, December 12 and Wednesday\, December 13 from 5:00 p.m. – 6:00 p.m. \nRegister for free here!
URL:https://acworth-ga.gov/event/santas-gonna-ringa-ding-ding/2023-12-12/
CATEGORIES:parks-recreation-event
ATTACH;FMTTYPE=image/png:https://acworth-ga.gov/wp-content/uploads/2023/10/WEBSITEsantacalls.png
END:VEVENT
BEGIN:VEVENT
DTSTART;TZID=America/New_York:20231212T180000
DTEND;TZID=America/New_York:20231212T180000
DTSTAMP:20260423T144420
CREATED:20230908T204849Z
LAST-MODIFIED:20231101T151128Z
UID:10001343-1702404000-1702404000@acworth-ga.gov
SUMMARY:Acworth Menorah Lighting
DESCRIPTION:The City of Acworth invites everyone to join us for our 11th Annual Menorah Lighting Ceremony on Tuesday\, December 12 at 6:00 p.m. at Logan Farm Park.  Rabbi Zalman Charytan from the Chabad Jewish Center will officiate the lighting with Mayor Tommy Allegood. \nThe eight day Jewish holiday commemorates the Jewish Maccabees’ military victory over Syrian-Greek oppression more than 2\,000 years ago. During Chanukah\, Jews across the world celebrate the miracle of light that burned for eight days out of a single-days-worth of oil found in the Temple. One Chanukah candle is lit the first night and an additional candle is lit each successive night. The holiday is a celebration of religious freedom and hope.
URL:https://acworth-ga.gov/event/acworth-menorah-lighting/
LOCATION:Logan Farm Park\, 4405 Cherokee Street\, Acworth\, GA\, 30101
CATEGORIES:parks-recreation-event
ATTACH;FMTTYPE=image/png:https://acworth-ga.gov/wp-content/uploads/2023/09/WEBSITEmenorah.png
END:VEVENT
END:VCALENDAR