BEGIN:VCALENDAR
VERSION:2.0
PRODID:-//City of Acworth, GA - ECPv6.15.17.1//NONSGML v1.0//EN
CALSCALE:GREGORIAN
METHOD:PUBLISH
X-WR-CALNAME:City of Acworth, GA
X-ORIGINAL-URL:https://acworth-ga.gov
X-WR-CALDESC:Events for City of Acworth, GA
REFRESH-INTERVAL;VALUE=DURATION:PT1H
X-Robots-Tag:noindex
X-PUBLISHED-TTL:PT1H
BEGIN:VTIMEZONE
TZID:America/New_York
BEGIN:DAYLIGHT
TZOFFSETFROM:-0500
TZOFFSETTO:-0400
TZNAME:EDT
DTSTART:20220313T070000
END:DAYLIGHT
BEGIN:STANDARD
TZOFFSETFROM:-0400
TZOFFSETTO:-0500
TZNAME:EST
DTSTART:20221106T060000
END:STANDARD
BEGIN:DAYLIGHT
TZOFFSETFROM:-0500
TZOFFSETTO:-0400
TZNAME:EDT
DTSTART:20230312T070000
END:DAYLIGHT
BEGIN:STANDARD
TZOFFSETFROM:-0400
TZOFFSETTO:-0500
TZNAME:EST
DTSTART:20231105T060000
END:STANDARD
BEGIN:DAYLIGHT
TZOFFSETFROM:-0500
TZOFFSETTO:-0400
TZNAME:EDT
DTSTART:20240310T070000
END:DAYLIGHT
BEGIN:STANDARD
TZOFFSETFROM:-0400
TZOFFSETTO:-0500
TZNAME:EST
DTSTART:20241103T060000
END:STANDARD
END:VTIMEZONE
BEGIN:VEVENT
DTSTART;TZID=America/New_York:20231201T173000
DTEND;TZID=America/New_York:20231201T203000
DTSTAMP:20260423T144034
CREATED:20230810T234724Z
LAST-MODIFIED:20231130T170412Z
UID:10000679-1701451800-1701462600@acworth-ga.gov
SUMMARY:Santa's Arrival ***LOCATION CHANGE***
DESCRIPTION:***Santa’s Arrival has been moved indoors to the Tanyard Creek Overlook at the Acworth Community Center (4361 Cherokee Street) due to forecasted inclement weather.*** \nThe City of Acworth\, along with their partner NorthStar Church is excited to host this year’s Santa’s Arrival!  Santa arrives at the Acworth Community Center  on  Friday\, December 1\, 2023.  Festivities will begin at 5:30 p.m. and Santa is scheduled to arrive at 6:30 p.m.  There will be a host of live performances and activities until 8:30 p.m. to help Santa kick off the holiday season. Bring the entire family to hear Mayor Tommy Allegood read The Night Before Christmas and watch the lighting of the tree on the Plaza behind Henry’s.  Enjoy pictures with Mr. Claus\, eating candy canes with all his elves\, and filling the streets with the holiday spirit. Pictures with Santa are free each year and begin at 6:45 p.m.  There will not be a photographer onsite\, so please plan on bringing your camera to capture the special moment. \nFor more information\, call the Parks and Recreation office at 770-917-1234.
URL:https://acworth-ga.gov/event/santas-arrival/
LOCATION:Acworth Community Center\, 4361 Cherokee Street\, Acworth\, GA\, 30101
CATEGORIES:parks-recreation-event
ATTACH;FMTTYPE=image/png:https://acworth-ga.gov/wp-content/uploads/2023/08/WEBSITEsantasArrival-1-1.png
END:VEVENT
END:VCALENDAR